BEGIN:VCALENDAR
VERSION:2.0
CALSCALE:GREGORIAN
PRODID:adamgibbons/ics
METHOD:PUBLISH
X-PUBLISHED-TTL:PT1H
BEGIN:VEVENT
UID:69e5cee62840b3293864144b
SUMMARY:KILLER KARMA CLASS
DTSTAMP:20260420T135500Z
DTSTART:20260601T080000
DESCRIPTION:Please check in with me prior to booking if you have any injuri
	es or are busy healing. I want to make sure this is the right class for yo
	u.
URL:https://bua.fit/class/baQYFbUJDMg9
LOCATION:Online
CATEGORIES:HIIT,Cardio
ORGANIZER;CN=Bua Fit:mailto:info@buafit.com
DURATION:PT40M
END:VEVENT
END:VCALENDAR
