BEGIN:VCALENDAR
VERSION:2.0
CALSCALE:GREGORIAN
PRODID:adamgibbons/ics
METHOD:PUBLISH
X-PUBLISHED-TTL:PT1H
BEGIN:VEVENT
UID:69e499bb4f06603587b1b6d9
SUMMARY:My Test Class WOJ
DTSTAMP:20260420T135500Z
DTSTART:20260531T100000
DESCRIPTION:My Test Class WOJ
URL:https://bua.fit/class/bnUzqckyFFXp
LOCATION:Online
CATEGORIES:Boxing
ORGANIZER;CN=Bua Fit:mailto:info@buafit.com
DURATION:PT50M
END:VEVENT
END:VCALENDAR
