BEGIN:VCALENDAR
VERSION:2.0
CALSCALE:GREGORIAN
PRODID:adamgibbons/ics
METHOD:PUBLISH
X-PUBLISHED-TTL:PT1H
BEGIN:VEVENT
UID:69eb542c5a572821863d9576
SUMMARY:The Circuit Circus
DTSTAMP:20260420T135500Z
DTSTART:20260605T123000
DESCRIPTION:It’s time to smash it 💥 Bring water!\nPlease meet in the middl
	e.
URL:https://bua.fit/class/c2JRrUtthobW
GEO:51.5244186;-0.1218013
LOCATION:Brunswick Square Gardens\\\, Bloomsbury\\\, WC1N 1AX
CATEGORIES:Bodyweight
ORGANIZER;CN=Bua Fit:mailto:info@buafit.com
DURATION:PT60M
END:VEVENT
END:VCALENDAR
