BEGIN:VCALENDAR
VERSION:2.0
CALSCALE:GREGORIAN
PRODID:adamgibbons/ics
METHOD:PUBLISH
X-PUBLISHED-TTL:PT1H
BEGIN:VEVENT
UID:69e8c645b47c944bc9324d7f
SUMMARY: Gut Health Seminar: Balance Your Gut\, Boost Your Vitality! 🥕🧬
DTSTAMP:20260420T135500Z
DTSTART:20260603T140000
DESCRIPTION:Detailed Q&A\, slides and super interactive.
URL:https://bua.fit/class/e2dePm5TmPOr
GEO:51.5073509;-0.1277583
LOCATION:London
CATEGORIES:Nutrition
ORGANIZER;CN=Bua Fit:mailto:info@buafit.com
DURATION:PT90M
END:VEVENT
END:VCALENDAR
