BEGIN:VCALENDAR
VERSION:2.0
CALSCALE:GREGORIAN
PRODID:adamgibbons/ics
METHOD:PUBLISH
X-PUBLISHED-TTL:PT1H
BEGIN:VEVENT
UID:69e4fbf42d18704a3cd7514b
SUMMARY:Sunday Recharge Yoga 🌳
DTSTAMP:20260408T175800Z
DTSTART:20260531T170000
DESCRIPTION:Set on the banks of the Thames\, this beautiful public terrace 
	overlooking the city is just 3 mins walk from Monument tube station\, with
	 London Bridge station just 0.4 miles away across the bridge.\n\nGo to the
	 pin and once you see the stairs with the sign stating 'public terrace riv
	er views'\, go up! The terrace is located at Saint Magnus House\, 3 Lower 
	Thames St\, Bridge\, London EC3R 6HE (51°30'31.3"N 0°05'09.3"W).\n\nPlease
	 bring a mat.
URL:https://bua.fit/class/eH0cXM1iRpHa
GEO:51.50872018278524;-0.08631589364012981
LOCATION:London Bridge\\\, London\\\, SE1 9RA
CATEGORIES:Yoga
ORGANIZER;CN=Bua Fit:mailto:info@buafit.com
DURATION:PT60M
END:VEVENT
END:VCALENDAR
