BEGIN:VCALENDAR
VERSION:2.0
CALSCALE:GREGORIAN
PRODID:adamgibbons/ics
METHOD:PUBLISH
X-PUBLISHED-TTL:PT1H
BEGIN:VEVENT
UID:69e088e4bd2d1b622f205382
SUMMARY:Lower body workout 🦵
DTSTAMP:20260420T135500Z
DTSTART:20260528T080000
DESCRIPTION:Meet on Zoom. Any injuries please direct message me
URL:https://bua.fit/class/eLAO0Vxbnpg1
LOCATION:Online
CATEGORIES:Core
ORGANIZER;CN=Bua Fit:mailto:info@buafit.com
DURATION:PT30M
END:VEVENT
END:VCALENDAR
