BEGIN:VCALENDAR
VERSION:2.0
CALSCALE:GREGORIAN
PRODID:adamgibbons/ics
METHOD:PUBLISH
X-PUBLISHED-TTL:PT1H
BEGIN:VEVENT
UID:69b7aa64f1ad914611368779
SUMMARY:Bua Yoga 🤸‍♀️
DTSTAMP:20260420T135500Z
DTSTART:20260427T070000
DESCRIPTION:Meet at the car park.  Please bring your mat.  
URL:https://bua.fit/class/ekwkmaZ2dSNR
GEO:51.4330024;-0.1442391
LOCATION:Tooting Common Lake\\\, London\\\, SW16 1RT
CATEGORIES:Yoga
ORGANIZER;CN=Bua Fit:mailto:info@buafit.com
DURATION:PT60M
END:VEVENT
END:VCALENDAR
