BEGIN:VCALENDAR
VERSION:2.0
CALSCALE:GREGORIAN
PRODID:adamgibbons/ics
METHOD:PUBLISH
X-PUBLISHED-TTL:PT1H
BEGIN:VEVENT
UID:69e86e618ce41705fc4ae4cf
SUMMARY:Morning Yoga Mojo 🌾🧘😅
DTSTAMP:20260420T135500Z
DTSTART:20260603T074500
DESCRIPTION:The outdoor yoga experience. 📱🌳\n\nBring your mat. 👍\n\nMeet
	 at the central statue of Mahatma Gandhi.\n\n\n
URL:https://bua.fit/class/essqBl2XxSaW
GEO:51.525031227133944;-0.12898026931152273
LOCATION:Tavistock Square Gardens\\\, Bloomsbury\\\, WC1H 9EZ
CATEGORIES:Yoga
ORGANIZER;CN=Bua Fit:mailto:info@buafit.com
DURATION:PT40M
END:VEVENT
END:VCALENDAR
