BEGIN:VCALENDAR
VERSION:2.0
CALSCALE:GREGORIAN
PRODID:adamgibbons/ics
METHOD:PUBLISH
X-PUBLISHED-TTL:PT1H
BEGIN:VEVENT
UID:69e4dfd40f3ae30e02a3c308
SUMMARY:Booty Burn Bootcamp 🍑
DTSTAMP:20260408T175800Z
DTSTART:20260531T150000
DESCRIPTION:Meet at bandstand 
URL:https://bua.fit/class/exCePCEfg1im
GEO:51.4586117;-0.1493462
LOCATION:Clapham Common\\\, London\\\, SW4 9DE
CATEGORIES:Bootcamp
ORGANIZER;CN=Bua Fit:mailto:info@buafit.com
DURATION:PT60M
END:VEVENT
END:VCALENDAR
