BEGIN:VCALENDAR
VERSION:2.0
CALSCALE:GREGORIAN
PRODID:adamgibbons/ics
METHOD:PUBLISH
X-PUBLISHED-TTL:PT1H
BEGIN:VEVENT
UID:69e73c85273b036128157663
SUMMARY:test
DTSTAMP:20260420T135500Z
DTSTART:20260602T100000
DESCRIPTION:test
URL:https://bua.fit/class/f8oJjqjSxm7C
LOCATION:Online
CATEGORIES:Boxing
ORGANIZER;CN=Bua Fit:mailto:info@buafit.com
DURATION:PT100M
END:VEVENT
END:VCALENDAR
