BEGIN:VCALENDAR
VERSION:2.0
CALSCALE:GREGORIAN
PRODID:adamgibbons/ics
METHOD:PUBLISH
X-PUBLISHED-TTL:PT1H
BEGIN:VEVENT
UID:69e65b8459cd003d9cbfc409
SUMMARY:Calorie Crusher :: London's Baddest Bootcamp
DTSTAMP:20260420T135500Z
DTSTART:20260601T180000
DESCRIPTION:You'll need water. Possibly gallons. 
URL:https://bua.fit/class/fIIBgzUC8Ih8
GEO:51.5286772;-0.1061977
LOCATION:Spa Green Garden\\\, Rosebery Avenue\\\, EC1R 4TY
CATEGORIES:HIIT
ORGANIZER;CN=Bua Fit:mailto:info@buafit.com
DURATION:PT60M
END:VEVENT
END:VCALENDAR
