BEGIN:VCALENDAR
VERSION:2.0
CALSCALE:GREGORIAN
PRODID:adamgibbons/ics
METHOD:PUBLISH
X-PUBLISHED-TTL:PT1H
BEGIN:VEVENT
UID:69e5c7dc6def062b163cea2d
SUMMARY:Bua Bodyweight H.I.I.T. 💪
DTSTAMP:20260408T175800Z
DTSTART:20260601T073000
DESCRIPTION:Meet by the climbing rock as denoted by the pin and bring water
	.
URL:https://bua.fit/class/fOajxBK8ywAL
GEO:51.5335908423351;-0.08470839374521422
LOCATION:Shoreditch Park\\\, New North Road\\\, N1 5EP
CATEGORIES:HIIT
ORGANIZER;CN=Bua Fit:mailto:info@buafit.com
DURATION:PT60M
END:VEVENT
END:VCALENDAR
