BEGIN:VCALENDAR
VERSION:2.0
CALSCALE:GREGORIAN
PRODID:adamgibbons/ics
METHOD:PUBLISH
X-PUBLISHED-TTL:PT1H
BEGIN:VEVENT
UID:69b68314b251a159581aae56
SUMMARY:Box HIIT Fix 🎯🥊
DTSTAMP:20260420T135500Z
DTSTART:20260426T100000
DESCRIPTION:Meet at the bandstand 
URL:https://bua.fit/class/fxxJ9yIChq5d
GEO:51.4586117;-0.1493462
LOCATION:Clapham Common\\\, London\\\, SW4 9DE
CATEGORIES:Boxing
ORGANIZER;CN=Bua Fit:mailto:info@buafit.com
DURATION:PT60M
END:VEVENT
END:VCALENDAR
