BEGIN:VCALENDAR
VERSION:2.0
CALSCALE:GREGORIAN
PRODID:adamgibbons/ics
METHOD:PUBLISH
X-PUBLISHED-TTL:PT1H
BEGIN:VEVENT
UID:69de72851deb59042f7563c7
SUMMARY:Upper body workout 💪
DTSTAMP:20260420T135500Z
DTSTART:20260526T180000
DESCRIPTION:Meet on Zoom. Any injuries please direct message me.
URL:https://bua.fit/class/gB8xudsxOqWB
LOCATION:Online
CATEGORIES:Core
ORGANIZER;CN=Bua Fit:mailto:info@buafit.com
DURATION:PT30M
END:VEVENT
END:VCALENDAR
