BEGIN:VCALENDAR
VERSION:2.0
CALSCALE:GREGORIAN
PRODID:adamgibbons/ics
METHOD:PUBLISH
X-PUBLISHED-TTL:PT1H
BEGIN:VEVENT
UID:69e36b68eed2bd0823db80ad
SUMMARY:Fab & Fit & Fun
DTSTAMP:20260420T135500Z
DTSTART:20260530T123000
DESCRIPTION:Total Body Shaping/Sculpting—You will participate in non-stop s
	trength building exercises that will increase muscular endurance while usi
	ng a variety of resistance bands. There will be a variety of core movement
	s and abdominal work involved. You will receive a total body shaping in th
	is class.
URL:https://bua.fit/class/gPL0vjT6kstP
LOCATION:Online
CATEGORIES:Body Shape
ORGANIZER;CN=Bua Fit:mailto:info@buafit.com
DURATION:PT60M
END:VEVENT
END:VCALENDAR
