BEGIN:VCALENDAR
VERSION:2.0
CALSCALE:GREGORIAN
PRODID:adamgibbons/ics
METHOD:PUBLISH
X-PUBLISHED-TTL:PT1H
BEGIN:VEVENT
UID:69e5c0d4f8ac0a46599ae325
SUMMARY:HIIT Workshop On The Boardwalk  💪🏰
DTSTAMP:20260408T175800Z
DTSTART:20260601T070000
DESCRIPTION:Meet by the pin. Bring water. 💪
URL:https://bua.fit/class/gRHFMu0X7DDB
GEO:51.50838477246795;-0.08418751481934272
LOCATION:Old Billingsgate Walk\\\, Billingsgate
CATEGORIES:HIIT
ORGANIZER;CN=Bua Fit:mailto:info@buafit.com
DURATION:PT60M
END:VEVENT
END:VCALENDAR
