BEGIN:VCALENDAR
VERSION:2.0
CALSCALE:GREGORIAN
PRODID:adamgibbons/ics
METHOD:PUBLISH
X-PUBLISHED-TTL:PT1H
BEGIN:VEVENT
UID:69e65b85e2c48f063fd64f5f
SUMMARY:The Caribbean Body Movement💥: The Meta Intellectual Mindset Series
DTSTAMP:20260420T135500Z
DTSTART:20260601T180000
DESCRIPTION:Please have a mat (or towel) and water handy.
URL:https://bua.fit/class/gXzpmmn65Njd
LOCATION:Online
CATEGORIES:Bootcamp,HIIT
ORGANIZER;CN=Bua Fit:mailto:info@buafit.com
DURATION:PT45M
END:VEVENT
END:VCALENDAR
