BEGIN:VCALENDAR
VERSION:2.0
CALSCALE:GREGORIAN
PRODID:adamgibbons/ics
METHOD:PUBLISH
X-PUBLISHED-TTL:PT1H
BEGIN:VEVENT
UID:69b569d565176c2cd9dff29f
SUMMARY:KAPOW💥:  Badass Bua Boxing 🥊😃
DTSTAMP:20260420T135500Z
DTSTART:20260425T140000
DESCRIPTION:Meet by the basketball court 🏀and bring water 💦
URL:https://bua.fit/class/gZsfYtPJ0MlR
GEO:51.53992278884252;-0.06025300000000344
LOCATION:London Fields\\\, Hackney\\\, E8 3EU
CATEGORIES:Boxing
ORGANIZER;CN=Bua Fit:mailto:info@buafit.com
DURATION:PT60M
END:VEVENT
END:VCALENDAR
