BEGIN:VCALENDAR
VERSION:2.0
CALSCALE:GREGORIAN
PRODID:adamgibbons/ics
METHOD:PUBLISH
X-PUBLISHED-TTL:PT1H
BEGIN:VEVENT
UID:69e9058dd024407c11afcc9c
SUMMARY:Run Like You Stole It 🏃🏼
DTSTAMP:20260420T135500Z
DTSTART:20260603T183000
DESCRIPTION:Meet by the entrance to the Rookery
URL:https://bua.fit/class/gu8ppOXpwxAJ
GEO:51.42235521954219;-0.11939555606690133
LOCATION:Streatham Common\\\, Streatham South\\\, SW16 3BX
CATEGORIES:Cardio
ORGANIZER;CN=Bua Fit:mailto:info@buafit.com
DURATION:PT60M
END:VEVENT
END:VCALENDAR
