BEGIN:VCALENDAR
VERSION:2.0
CALSCALE:GREGORIAN
PRODID:adamgibbons/ics
METHOD:PUBLISH
X-PUBLISHED-TTL:PT1H
BEGIN:VEVENT
UID:69e4dfd4b560dc2772b15020
SUMMARY:KAPOW💥:  Badass Bua Boxing 🥊😃
DTSTAMP:20260408T175800Z
DTSTART:20260531T150000
DESCRIPTION:Bosche 🥊💥💦
URL:https://bua.fit/class/hF6SkLdF7jfV
LOCATION:Online
CATEGORIES:Boxing
ORGANIZER;CN=Bua Fit:mailto:info@buafit.com
DURATION:PT60M
END:VEVENT
END:VCALENDAR
