BEGIN:VCALENDAR
VERSION:2.0
CALSCALE:GREGORIAN
PRODID:adamgibbons/ics
METHOD:PUBLISH
X-PUBLISHED-TTL:PT1H
BEGIN:VEVENT
UID:69e60724ec3f3d2b45f0b182
SUMMARY:Test Class 2
DTSTAMP:20260420T135500Z
DTSTART:20260601T120000
DESCRIPTION:About
URL:https://bua.fit/class/ir7tIcb4Kl2l
GEO:51.5073509;-0.1277583
LOCATION:London
CATEGORIES:Zumba
ORGANIZER;CN=Bua Fit:mailto:info@buafit.com
DURATION:PT100M
END:VEVENT
END:VCALENDAR
