BEGIN:VCALENDAR
VERSION:2.0
CALSCALE:GREGORIAN
PRODID:adamgibbons/ics
METHOD:PUBLISH
X-PUBLISHED-TTL:PT1H
BEGIN:VEVENT
UID:69e87ff47ba9556786b8671f
SUMMARY:Zumba: Dance\, Sweat\, and Feel the Rhythm! 💃🎶
DTSTAMP:20260420T135500Z
DTSTART:20260603T090000
DESCRIPTION:Guranteed to be feeling incredible after this class.
URL:https://bua.fit/class/j2KdEUeEUDk1
GEO:51.5073509;-0.1277583
LOCATION:London
CATEGORIES:Zumba
ORGANIZER;CN=Bua Fit:mailto:info@buafit.com
DURATION:PT60M
END:VEVENT
END:VCALENDAR
