BEGIN:VCALENDAR
VERSION:2.0
CALSCALE:GREGORIAN
PRODID:adamgibbons/ics
METHOD:PUBLISH
X-PUBLISHED-TTL:PT1H
BEGIN:VEVENT
UID:69e8f77d343e6b5ef36eea88
SUMMARY:Sole Mates Run Club 🏃🏼
DTSTAMP:20260420T135500Z
DTSTART:20260603T173000
DESCRIPTION:Meet at basketball court 🏀 as denoted by the pin. Please bring
	 water. 
URL:https://bua.fit/class/jBwENgq6XyOV
GEO:51.53995949035702;-0.06065533135223733
LOCATION:London Fields\\\, Hackney\\\, E8 3EU
CATEGORIES:Cardio
ORGANIZER;CN=Bua Fit:mailto:info@buafit.com
DURATION:PT60M
END:VEVENT
END:VCALENDAR
