BEGIN:VCALENDAR
VERSION:2.0
CALSCALE:GREGORIAN
PRODID:adamgibbons/ics
METHOD:PUBLISH
X-PUBLISHED-TTL:PT1H
BEGIN:VEVENT
UID:69e5cee6f80e7067f4f9301f
SUMMARY:💣 War On Your Core 💣
DTSTAMP:20260408T175800Z
DTSTART:20260601T080000
DESCRIPTION:Meet by the Herne Hill Gate.
URL:https://bua.fit/class/jEk36TSHVHWx
GEO:51.45225802129838;-0.10211068144531765
LOCATION:Brockwell Park\\\, Herne Hill\\\, SE24 9BJ
CATEGORIES:Core
ORGANIZER;CN=Bua Fit:mailto:info@buafit.com
DURATION:PT45M
END:VEVENT
END:VCALENDAR
