BEGIN:VCALENDAR
VERSION:2.0
CALSCALE:GREGORIAN
PRODID:adamgibbons/ics
METHOD:PUBLISH
X-PUBLISHED-TTL:PT1H
BEGIN:VEVENT
UID:69e348048c3ebf26401d8509
SUMMARY:HIIT Workshop 💪🏰
DTSTAMP:20260420T135500Z
DTSTART:20260530T100000
DESCRIPTION:Bring water. 💪
URL:https://bua.fit/class/jQ5ZCejiUgIz
GEO:51.508494912353996;-0.08403928227844082
LOCATION:Old Billingsgate Walk\\\, Billingsgate
CATEGORIES:HIIT
ORGANIZER;CN=Bua Fit:mailto:info@buafit.com
DURATION:PT60M
END:VEVENT
END:VCALENDAR
