BEGIN:VCALENDAR
VERSION:2.0
CALSCALE:GREGORIAN
PRODID:adamgibbons/ics
METHOD:PUBLISH
X-PUBLISHED-TTL:PT1H
BEGIN:VEVENT
UID:69eb0ddc02b7e32ae254e431
SUMMARY:Run Like You Stole It 🏃🏼
DTSTAMP:20260420T135500Z
DTSTART:20260605T073000
DESCRIPTION:Meet by the gate and bring water 
URL:https://bua.fit/class/jSPdlPDCDId5
GEO:51.550215719027676;-0.10098512485350764
LOCATION:Highbury Fields\\\, Highbury East\\\, N5 1AR
CATEGORIES:Cardio
ORGANIZER;CN=Bua Fit:mailto:info@buafit.com
DURATION:PT60M
END:VEVENT
END:VCALENDAR
