BEGIN:VCALENDAR
VERSION:2.0
CALSCALE:GREGORIAN
PRODID:adamgibbons/ics
METHOD:PUBLISH
X-PUBLISHED-TTL:PT1H
BEGIN:VEVENT
UID:69e5cee469726263aa392f88
SUMMARY:The Circuit Circus
DTSTAMP:20260420T135500Z
DTSTART:20260601T080000
DESCRIPTION:It’s time to smash it 💥 Bring water!
URL:https://bua.fit/class/kFdw7IydqGJv
GEO:51.5094967;-0.1459015
LOCATION:Berkeley Square\\\, Mayfair
CATEGORIES:Bodyweight
ORGANIZER;CN=Bua Fit:mailto:info@buafit.com
DURATION:PT60M
END:VEVENT
END:VCALENDAR
