BEGIN:VCALENDAR
VERSION:2.0
CALSCALE:GREGORIAN
PRODID:adamgibbons/ics
METHOD:PUBLISH
X-PUBLISHED-TTL:PT1H
BEGIN:VEVENT
UID:69eb0dddf1d4b63be2a1d94f
SUMMARY:BUA Yoga: Primal Vinyasa 🌿🤸🏼‍♂️
DTSTAMP:20260420T135500Z
DTSTART:20260605T073000
DESCRIPTION:If you have a mat great but not crucial 👍
URL:https://bua.fit/class/kmWRxTR2kqy2
LOCATION:Online
CATEGORIES:Yoga
ORGANIZER;CN=Bua Fit:mailto:info@buafit.com
DURATION:PT45M
END:VEVENT
END:VCALENDAR
