BEGIN:VCALENDAR
VERSION:2.0
CALSCALE:GREGORIAN
PRODID:adamgibbons/ics
METHOD:PUBLISH
X-PUBLISHED-TTL:PT1H
BEGIN:VEVENT
UID:69e871e55a7d6e4407700026
SUMMARY:The Online Circuit Circus 🏃🏼🏃🏼‍♀‍
DTSTAMP:20260420T135500Z
DTSTART:20260603T080000
DESCRIPTION:It’s time to smash it 💥
URL:https://bua.fit/class/kz5mobq6q4HC
LOCATION:Online
CATEGORIES:HIIT,Bodyweight
ORGANIZER;CN=Bua Fit:mailto:info@buafit.com
DURATION:PT45M
END:VEVENT
END:VCALENDAR
