BEGIN:VCALENDAR
VERSION:2.0
CALSCALE:GREGORIAN
PRODID:adamgibbons/ics
METHOD:PUBLISH
X-PUBLISHED-TTL:PT1H
BEGIN:VEVENT
UID:69eb9a7da2cd5b3922f69032
SUMMARY:BUA Run Club 🏃🏼‍♀️🏃🏻‍♂️
DTSTAMP:20260420T135500Z
DTSTART:20260605T173000
DESCRIPTION:Meet at the car park
URL:https://bua.fit/class/lBcRQez2oxbZ
GEO:51.4330024;-0.1442391
LOCATION:Tooting Common Lake\\\, London\\\, SW16 1RT
CATEGORIES:Cardio
ORGANIZER;CN=Bua Fit:mailto:info@buafit.com
DURATION:PT60M
END:VEVENT
END:VCALENDAR
