BEGIN:VCALENDAR
VERSION:2.0
CALSCALE:GREGORIAN
PRODID:adamgibbons/ics
METHOD:PUBLISH
X-PUBLISHED-TTL:PT1H
BEGIN:VEVENT
UID:69ea500496deeb44d3195169
SUMMARY:The Circuit Circus 🏃🏼🏃🏼‍♀‍
DTSTAMP:20260420T135500Z
DTSTART:20260604T180000
DESCRIPTION:It’s time to smash it 💥\nBring water!
URL:https://bua.fit/class/lSfoYswSRmfD
GEO:51.5191363;-0.1190231
LOCATION:Red Lion Square Gardens\\\, Red Lion Square\\\, WC1R 4QF
CATEGORIES:Bodyweight
ORGANIZER;CN=Bua Fit:mailto:info@buafit.com
DURATION:PT60M
END:VEVENT
END:VCALENDAR
