BEGIN:VCALENDAR
VERSION:2.0
CALSCALE:GREGORIAN
PRODID:adamgibbons/ics
METHOD:PUBLISH
X-PUBLISHED-TTL:PT1H
BEGIN:VEVENT
UID:69e86addb930207ba2492807
SUMMARY:Bua Bodyweight H.I.I.T. 💪
DTSTAMP:20260420T135500Z
DTSTART:20260603T073000
DESCRIPTION:Meet at the drinking fountain by the car park.  Please bring pl
	enty of water - you’ll need it!
URL:https://bua.fit/class/lgQigumVVlca
GEO:51.431410468530444;-0.14640632488403638
LOCATION:Tooting Common Lake\\\, London\\\, SW16 1RT
CATEGORIES:HIIT
ORGANIZER;CN=Bua Fit:mailto:info@buafit.com
DURATION:PT60M
END:VEVENT
END:VCALENDAR
