BEGIN:VCALENDAR
VERSION:2.0
CALSCALE:GREGORIAN
PRODID:adamgibbons/ics
METHOD:PUBLISH
X-PUBLISHED-TTL:PT1H
BEGIN:VEVENT
UID:69e212a634502732a71d0404
SUMMARY:Absolute Abs
DTSTAMP:20260420T135500Z
DTSTART:20260529T120000
DESCRIPTION:Meet on Zoom. Any injuries please direct message me.
URL:https://bua.fit/class/ltjP6qPCqgtT
LOCATION:Online
CATEGORIES:HIIT,Core
ORGANIZER;CN=Bua Fit:mailto:info@buafit.com
DURATION:PT30M
END:VEVENT
END:VCALENDAR
