BEGIN:VCALENDAR
VERSION:2.0
CALSCALE:GREGORIAN
PRODID:adamgibbons/ics
METHOD:PUBLISH
X-PUBLISHED-TTL:PT1H
BEGIN:VEVENT
UID:69eb9a7ea3647a6acfd9e3f5
SUMMARY:Booty Burn Bootcamp 🍑
DTSTAMP:20260420T135500Z
DTSTART:20260605T173000
DESCRIPTION:Meet by the Herne Hill Gate
URL:https://bua.fit/class/m5J78ThcSkM8
GEO:51.451990214288664;-0.10209056487770596
LOCATION:Brockwell Park\\\, Herne Hill\\\, SE24 9BJ
CATEGORIES:Bootcamp
ORGANIZER;CN=Bua Fit:mailto:info@buafit.com
DURATION:PT60M
END:VEVENT
END:VCALENDAR
