BEGIN:VCALENDAR
VERSION:2.0
CALSCALE:GREGORIAN
PRODID:adamgibbons/ics
METHOD:PUBLISH
X-PUBLISHED-TTL:PT1H
BEGIN:VEVENT
UID:69e87ff50414627641080432
SUMMARY:General Nutrition Seminar: Fuel Right\, Feel Bright! 🥗🌟
DTSTAMP:20260420T135500Z
DTSTART:20260603T090000
DESCRIPTION:50min on content and detailed Q&A which can bring time to 90min
	 \, slides\, and super interactive.
URL:https://bua.fit/class/m93Nxa9sogzT
GEO:51.5073509;-0.1277583
LOCATION:London
CATEGORIES:Nutrition
ORGANIZER;CN=Bua Fit:mailto:info@buafit.com
DURATION:PT50M
END:VEVENT
END:VCALENDAR
