BEGIN:VCALENDAR
VERSION:2.0
CALSCALE:GREGORIAN
PRODID:adamgibbons/ics
METHOD:PUBLISH
X-PUBLISHED-TTL:PT1H
BEGIN:VEVENT
UID:69ec9ea6e68f77324e5db48a
SUMMARY:Saturday smasher 🥊👊
DTSTAMP:20260420T135500Z
DTSTART:20260606T120000
DESCRIPTION:Meet online. Any injuries please direct message me.
URL:https://bua.fit/class/mKTt1DfWVjKz
LOCATION:Online
CATEGORIES:HIIT,Boxing
ORGANIZER;CN=Bua Fit:mailto:info@buafit.com
DURATION:PT45M
END:VEVENT
END:VCALENDAR
