BEGIN:VCALENDAR
VERSION:2.0
CALSCALE:GREGORIAN
PRODID:adamgibbons/ics
METHOD:PUBLISH
X-PUBLISHED-TTL:PT1H
BEGIN:VEVENT
UID:69e9bc5eaf44ee5d913546aa
SUMMARY:Bua Yoga: Primal Vinyasa 🌿
DTSTAMP:20260420T135500Z
DTSTART:20260604T073000
DESCRIPTION:Meet at the bandstand.Bring your mat 👍
URL:https://bua.fit/class/mdwdYTiJexzC
GEO:51.4586117;-0.1493462
LOCATION:Clapham Common\\\, London\\\, SW4 9DE
CATEGORIES:Yoga
ORGANIZER;CN=Bua Fit:mailto:info@buafit.com
DURATION:PT60M
END:VEVENT
END:VCALENDAR
