BEGIN:VCALENDAR
VERSION:2.0
CALSCALE:GREGORIAN
PRODID:adamgibbons/ics
METHOD:PUBLISH
X-PUBLISHED-TTL:PT1H
BEGIN:VEVENT
UID:69ecacb58b48486565b14018
SUMMARY:KAPOW💥:  Badass Bua Shadow Boxing 🥊😃
DTSTAMP:20260420T135500Z
DTSTART:20260606T130000
DESCRIPTION:Meet at the pin and bring H20💦
URL:https://bua.fit/class/mwIpfaPJzeLY
GEO:51.50838477246795;-0.08403731111450874
LOCATION:Old Billingsgate Walk\\\, Billingsgate
CATEGORIES:Boxing
ORGANIZER;CN=Bua Fit:mailto:info@buafit.com
DURATION:PT60M
END:VEVENT
END:VCALENDAR
