BEGIN:VCALENDAR
VERSION:2.0
CALSCALE:GREGORIAN
PRODID:adamgibbons/ics
METHOD:PUBLISH
X-PUBLISHED-TTL:PT1H
BEGIN:VEVENT
UID:69e5cee50cd671290ffb92fa
SUMMARY:Monday morning motive! ⏰
DTSTAMP:20260420T135500Z
DTSTART:20260601T080000
DESCRIPTION:Meet on Zoom. Any injuries please direct message me.
URL:https://bua.fit/class/nFfMh4BqbdaS
LOCATION:Online
CATEGORIES:Cardio
ORGANIZER;CN=Bua Fit:mailto:info@buafit.com
DURATION:PT45M
END:VEVENT
END:VCALENDAR
