BEGIN:VCALENDAR
VERSION:2.0
CALSCALE:GREGORIAN
PRODID:adamgibbons/ics
METHOD:PUBLISH
X-PUBLISHED-TTL:PT1H
BEGIN:VEVENT
UID:69e75fadc5bc3e79a0c1df01
SUMMARY:Bodyweight H.I.I.T. 👊 👊 👊
DTSTAMP:20260420T135500Z
DTSTART:20260602T123000
DESCRIPTION:Please meet bang in the middle as denoted by the pin.
URL:https://bua.fit/class/nQRbGTVfUxAy
GEO:51.546986123528995;-0.14826593928680243
LOCATION:Talacre Gardens\\\, Talacre Road\\\, NW5 3PH
CATEGORIES:HIIT,Bodyweight
ORGANIZER;CN=Bua Fit:mailto:info@buafit.com
DURATION:PT45M
END:VEVENT
END:VCALENDAR
