BEGIN:VCALENDAR
VERSION:2.0
CALSCALE:GREGORIAN
PRODID:adamgibbons/ics
METHOD:PUBLISH
X-PUBLISHED-TTL:PT1H
BEGIN:VEVENT
UID:69de72869f3cb7753f46fc0e
SUMMARY:HIIT-ENERGISE
DTSTAMP:20260420T135500Z
DTSTART:20260526T180000
DESCRIPTION:If you're looking for high energy\, sweat and challenges then T
	HIS is the class for you. Lets get that heart pumping and us our amazing b
	odies to work up a good sweat! Who's in?
URL:https://bua.fit/class/nSdxhWeR1X9p
LOCATION:Online
CATEGORIES:HIIT
ORGANIZER;CN=Bua Fit:mailto:info@buafit.com
DURATION:PT30M
END:VEVENT
END:VCALENDAR
