BEGIN:VCALENDAR
VERSION:2.0
CALSCALE:GREGORIAN
PRODID:adamgibbons/ics
METHOD:PUBLISH
X-PUBLISHED-TTL:PT1H
BEGIN:VEVENT
UID:69eb06d5afb76b5494e8015f
SUMMARY:Bua Yoga Flow Mojo 🌿
DTSTAMP:20260420T135500Z
DTSTART:20260605T070000
DESCRIPTION:Meet by the gate and bring a mat. 
URL:https://bua.fit/class/ncEpWNSEFsLm
GEO:51.55032246283839;-0.10119970157469904
LOCATION:Highbury Fields\\\, Highbury East\\\, N5 1AR
CATEGORIES:Yoga
ORGANIZER;CN=Bua Fit:mailto:info@buafit.com
DURATION:PT60M
END:VEVENT
END:VCALENDAR
