BEGIN:VCALENDAR
VERSION:2.0
CALSCALE:GREGORIAN
PRODID:adamgibbons/ics
METHOD:PUBLISH
X-PUBLISHED-TTL:PT1H
BEGIN:VEVENT
UID:69e73c85e6c46237ff6e6c9c
SUMMARY:UFC Training: Train Like a Warrior 🛡️🥇
DTSTAMP:20260420T135500Z
DTSTART:20260602T100000
DESCRIPTION:\n\nChallenge your team to take their fitness to the next level
	 with UFC Training – the ultimate mix of cardio\, strength\, and combat sk
	ills. 🥋 This high-intensity class blends elements of boxing\, kickboxing\
	, wrestling\, and Brazilian Jiu-Jitsu\, providing a comprehensive workout 
	that builds strength\, speed\, and mental toughness. 🧠💪\n\n
URL:https://bua.fit/class/ndBQcqxZjsq2
GEO:51.5073509;-0.1277583
LOCATION:London
CATEGORIES:Martial Arts
ORGANIZER;CN=Bua Fit:mailto:info@buafit.com
DURATION:PT50M
END:VEVENT
END:VCALENDAR
