BEGIN:VCALENDAR
VERSION:2.0
CALSCALE:GREGORIAN
PRODID:adamgibbons/ics
METHOD:PUBLISH
X-PUBLISHED-TTL:PT1H
BEGIN:VEVENT
UID:69e4a08c65cddc5cef083271
SUMMARY:The Online Circuit Circus 🏃🏼🏃🏼‍♀‍
DTSTAMP:20260408T175800Z
DTSTART:20260531T103000
DESCRIPTION:It’s time to smash it 💥
URL:https://bua.fit/class/oOK0HZsstA3z
LOCATION:Online
CATEGORIES:HIIT,Bodyweight
ORGANIZER;CN=Bua Fit:mailto:info@buafit.com
DURATION:PT45M
END:VEVENT
END:VCALENDAR
