BEGIN:VCALENDAR
VERSION:2.0
CALSCALE:GREGORIAN
PRODID:adamgibbons/ics
METHOD:PUBLISH
X-PUBLISHED-TTL:PT1H
BEGIN:VEVENT
UID:69e87ff57d01f65310f1dc7d
SUMMARY:Shift focus from reactive to proactive attitude 
DTSTAMP:20260420T135500Z
DTSTART:20260603T090000
DESCRIPTION:In this workshop participants will develop the ability to pause
	 and choose a more constructive\, positive approach when facing challenges
	. They will learn how to shift focus from reactive\, saboteur-driven respo
	nses to a balanced\, creative and understanding perspective.
URL:https://bua.fit/class/oSOhwUjsUEFO
GEO:51.5073509;-0.1277583
LOCATION:London
CATEGORIES:Mentoring & Coaching 
ORGANIZER;CN=Bua Fit:mailto:info@buafit.com
DURATION:PT60M
END:VEVENT
END:VCALENDAR
