BEGIN:VCALENDAR
VERSION:2.0
CALSCALE:GREGORIAN
PRODID:adamgibbons/ics
METHOD:PUBLISH
X-PUBLISHED-TTL:PT1H
BEGIN:VEVENT
UID:69e7b40ef0eb32298405326d
SUMMARY:☀️☀️☀️ Sundown Yoga ☀️☀️☀️
DTSTAMP:20260420T135500Z
DTSTART:20260602T183000
DESCRIPTION:Please bring a mat if possible.\nMeet at the Grantully entrance
	 as denoted by the pin.
URL:https://bua.fit/class/p6lazA6CJCEa
GEO:51.529631974416915;-0.1891646813369663
LOCATION:Paddington Recreation Ground\\\, Maida Vale\\\, W9 1PD
CATEGORIES:Yoga
ORGANIZER;CN=Bua Fit:mailto:info@buafit.com
DURATION:PT60M
END:VEVENT
END:VCALENDAR
