BEGIN:VCALENDAR
VERSION:2.0
CALSCALE:GREGORIAN
PRODID:adamgibbons/ics
METHOD:PUBLISH
X-PUBLISHED-TTL:PT1H
BEGIN:VEVENT
UID:69e86adcc25ce276489bd5a9
SUMMARY:Bua Yoga: Vinyasa 🌿🤸🏼‍♂️
DTSTAMP:20260420T135500Z
DTSTART:20260603T073000
DESCRIPTION:If you have a mat great but not crucial 👍
URL:https://bua.fit/class/pYC6zWQGGGrC
LOCATION:Online
CATEGORIES:Yoga
ORGANIZER;CN=Bua Fit:mailto:info@buafit.com
DURATION:PT30M
END:VEVENT
END:VCALENDAR
