BEGIN:VCALENDAR
VERSION:2.0
CALSCALE:GREGORIAN
PRODID:adamgibbons/ics
METHOD:PUBLISH
X-PUBLISHED-TTL:PT1H
BEGIN:VEVENT
UID:69e5c0d517f19d07aa6dddb3
SUMMARY:Calorie Crusher🔥: BUA Online Bootcamp 😅
DTSTAMP:20260420T135500Z
DTSTART:20260601T070000
DESCRIPTION:Let’s get freaky fit this Monday!👊\n\nMeet online with a big f
	at SMILE 😃\n\nHave the H20 handy 💦
URL:https://bua.fit/class/pnoOkL6dIqsn
LOCATION:Online
CATEGORIES:HIIT,Bodyweight
ORGANIZER;CN=Bua Fit:mailto:info@buafit.com
DURATION:PT40M
END:VEVENT
END:VCALENDAR
