BEGIN:VCALENDAR
VERSION:2.0
CALSCALE:GREGORIAN
PRODID:adamgibbons/ics
METHOD:PUBLISH
X-PUBLISHED-TTL:PT1H
BEGIN:VEVENT
UID:69e9b554aa9d6e017ce519c0
SUMMARY:HIIT Workshop On The Boardwalk  💪🏰
DTSTAMP:20260420T135500Z
DTSTART:20260604T070000
DESCRIPTION:Meet on the platform. Bring water. 💪
URL:https://bua.fit/class/qrNJXGGfshOF
GEO:51.50838477246795;-0.08418751481934272
LOCATION:Old Billingsgate Walk\\\, Billingsgate
CATEGORIES:Cardio
ORGANIZER;CN=Bua Fit:mailto:info@buafit.com
DURATION:PT60M
END:VEVENT
END:VCALENDAR
