BEGIN:VCALENDAR
VERSION:2.0
CALSCALE:GREGORIAN
PRODID:adamgibbons/ics
METHOD:PUBLISH
X-PUBLISHED-TTL:PT1H
BEGIN:VEVENT
UID:69e87568f0e6ea74450ddba9
SUMMARY:Wednesday Recharge Yoga 🌳
DTSTAMP:20260420T135500Z
DTSTART:20260527T081500
DESCRIPTION:Please bring a mat and meet at the bandstand 👊
URL:https://bua.fit/class/qwR8dNQdF5Gt
GEO:51.51785820000001;-0.08643329999999999
LOCATION:Finsbury Circus Gardens\\\, London\\\, EC2M 7DT
CATEGORIES:Yoga
ORGANIZER;CN=Bua Fit:mailto:info@buafit.com
DURATION:PT60M
END:VEVENT
END:VCALENDAR
